BEGIN:VCALENDAR
VERSION:2.0
PRODID:-//BOTC Map//MVP//DE
CALSCALE:GREGORIAN
BEGIN:VEVENT
UID:botc-map-event-1113@local
DTSTAMP:20260424T080126Z
DTSTART:20260426T140000
DTEND:20260426T200000
SUMMARY:BotC in Marburg
DESCRIPTION:Wir spielen fast jedes WE in Marburg in der Spielebrücke. Hauptsächlich mittlere bis fortgeschrittene Skripte\, aber Anfänger sind auch immer willkommen :)\nPer Whatsapp-Abstimmung wird festgelegt\, ob Samstag oder Sonntag gespielt wird. Wir beginnen in der Regel gegen 14:00 Uhr.\n(Wir haben 2-3 verschiedene Storyteller\, ich selbst bin kein Storyteller\, sondern erstelle dieses Event lediglich für unsere Gruppe^^). Bei Interesse aber gerne bei mir melden (Unser Discord-Server -> Sabrina *miau*).\n\nMehr: https://botcmap.de/event/1113
LOCATION:35037 Marburg\, 
END:VEVENT
END:VCALENDAR
